BEGIN:VCALENDAR
PRODID:brasil.gov.agenda
VERSION:1.0
BEGIN:VEVENT
DTSTART:20210902T100000Z
DTEND:20210902T110000Z
DCREATED:20210903T120718Z
UID:Compromisso-c31584fc42da4fdbb6b2a7e09e97fb54
SEQUENCE:0
LAST-MODIFIED:20210903T120719Z
SUMMARY:Reunião de organização de webnário
LOCATION:Reitoria
PRIORITY:3
TRANSP:0
END:VEVENT
END:VCALENDAR
