BEGIN:VCALENDAR
PRODID:brasil.gov.agenda
VERSION:1.0
BEGIN:VEVENT
DTSTART:20210902T090000Z
DTEND:20210902T110000Z
DCREATED:20210903T120113Z
UID:Compromisso-673a35f8935642a2a5e640fa764a6fa4
SEQUENCE:0
LAST-MODIFIED:20210903T120113Z
SUMMARY:Reunião com pró-reitorias
DESCRIPTION:Suplementação orçamentária
LOCATION:Reitoria
PRIORITY:3
TRANSP:0
END:VEVENT
END:VCALENDAR
