BEGIN:VCALENDAR
PRODID:brasil.gov.agenda
VERSION:1.0
BEGIN:VEVENT
DTSTART:20210902T080000Z
DTEND:20210902T090000Z
DCREATED:20210903T121022Z
UID:Compromisso-d1087c816a4f4a99b83837f903fe4974
SEQUENCE:0
LAST-MODIFIED:20210903T121022Z
SUMMARY:Reunião com pró-reitorias
DESCRIPTION:Projetos de saúde e esporte
LOCATION:Reitoria
PRIORITY:3
TRANSP:0
END:VEVENT
END:VCALENDAR
