BEGIN:VCALENDAR
PRODID:brasil.gov.agenda
VERSION:1.0
BEGIN:VEVENT
DTSTART:20210901T080000Z
DTEND:20210901T090000Z
DCREATED:20210901T115224Z
UID:Compromisso-61ef136166054aa89fd9ccf6e336deac
SEQUENCE:0
LAST-MODIFIED:20210901T115224Z
SUMMARY:Reunião com Unidades Acadêmicas
DESCRIPTION:Apresentação do resultado do trabalho do processamento d
 o leite
LOCATION:Reitoria
PRIORITY:3
TRANSP:0
END:VEVENT
END:VCALENDAR
