BEGIN:VCALENDAR
PRODID:brasil.gov.agenda
VERSION:1.0
BEGIN:VEVENT
DTSTART:20210901T100000Z
DTEND:20210901T110000Z
DCREATED:20210901T115520Z
UID:Compromisso-8c628f2d096c445ebf31cf709e1e3f20
SEQUENCE:0
LAST-MODIFIED:20210901T115520Z
SUMMARY:Reunião com as Pró-reitorias e a PGF
DESCRIPTION:Retorno presencial dos Técnicos Administrativos
LOCATION:Reitoria
PRIORITY:3
TRANSP:0
END:VEVENT
END:VCALENDAR
