BEGIN:VCALENDAR
PRODID:brasil.gov.agenda
VERSION:1.0
BEGIN:VEVENT
DTSTART:20210901T110000Z
DTEND:20210901T120000Z
DCREATED:20210901T115712Z
UID:Compromisso-0fb18918d2774a72bd1a9178e356cb95
SEQUENCE:0
LAST-MODIFIED:20210901T115712Z
SUMMARY:Reunião com a Secretaria de Processo Administrativo (SecPad)
DESCRIPTION:Demanda interna
LOCATION:Reitoria
PRIORITY:3
TRANSP:0
END:VEVENT
END:VCALENDAR
