BEGIN:VCALENDAR
PRODID:brasil.gov.agenda
VERSION:1.0
BEGIN:VEVENT
DTSTART:20210830T100000Z
DTEND:20210830T110000Z
DCREATED:20210830T130430Z
UID:Compromisso-05c5bbf9f0104a4eb9eda4c6f17cadd6
SEQUENCE:0
LAST-MODIFIED:20210830T130814Z
SUMMARY:Reunião com Pró-reitorias
DESCRIPTION:Reestruturação administrativa
LOCATION:Reitoria
PRIORITY:3
TRANSP:0
END:VEVENT
END:VCALENDAR
