BEGIN:VCALENDAR
PRODID:brasil.gov.agenda
VERSION:1.0
BEGIN:VEVENT
DTSTART:20210830T110000Z
DTEND:20210830T120000Z
DCREATED:20210830T130546Z
UID:Compromisso-1230f7f5cd4f4fbaaa5165d03d8d6ae4
SEQUENCE:0
LAST-MODIFIED:20210830T130602Z
SUMMARY:Reunião com a Pró-Reitoria de Gestão de Pessoas (PROGEP)
DESCRIPTION:Redistribuição docente
LOCATION:Reitoria
PRIORITY:3
TRANSP:0
END:VEVENT
END:VCALENDAR
