BEGIN:VCALENDAR
PRODID:brasil.gov.agenda
VERSION:1.0
BEGIN:VEVENT
DTSTART:20210830T090000Z
DTEND:20210830T100000Z
DCREATED:20210830T124553Z
UID:Compromisso-b25991e7777e497ba381d346ef88a91e
SEQUENCE:0
LAST-MODIFIED:20210830T124553Z
SUMMARY:Reunião com a Pró-Reitoria de Administração (PROAD)
DESCRIPTION:Espaços campus JK
LOCATION:Reitoria
PRIORITY:3
TRANSP:0
END:VEVENT
END:VCALENDAR
