BEGIN:VCALENDAR
PRODID:brasil.gov.agenda
VERSION:1.0
BEGIN:VEVENT
DTSTART:20210830T080000Z
DTEND:20210830T090000Z
DCREATED:20210830T124336Z
UID:Compromisso-fde906be9cbf402f8556734216001ee9
SEQUENCE:0
LAST-MODIFIED:20210830T124352Z
SUMMARY:Reunião com a Diretoria de Tecnologia da Informação (DTI)
DESCRIPTION:Organização da DTI
LOCATION:Reitoria
PRIORITY:3
TRANSP:0
END:VEVENT
END:VCALENDAR
