BEGIN:VCALENDAR
PRODID:brasil.gov.agenda
VERSION:1.0
BEGIN:VEVENT
DTSTART:20210830T140000Z
DTEND:20210830T180000Z
DCREATED:20210830T130623Z
UID:Compromisso-2d02e42dd8fe4c6abb04cabdea7df4df
SEQUENCE:0
LAST-MODIFIED:20210830T130623Z
SUMMARY:Despachos Internos
LOCATION:Reitoria
PRIORITY:3
TRANSP:0
END:VEVENT
END:VCALENDAR
