BEGIN:VCALENDAR
PRODID:brasil.gov.agenda
VERSION:1.0
BEGIN:VEVENT
DTSTART:20210826T083000Z
DTEND:20210826T120000Z
DCREATED:20210826T114318Z
UID:Compromisso-5dddd2462e344f7097f59829ca076f65
SEQUENCE:0
LAST-MODIFIED:20210826T114347Z
SUMMARY:247ª reunião\, sendo a 145ª sessão em caráter ordinário do CONSU
LOCATION:Compromisso on-line
PRIORITY:3
TRANSP:0
END:VEVENT
END:VCALENDAR
