BEGIN:VCALENDAR
PRODID:brasil.gov.agenda
VERSION:1.0
BEGIN:VEVENT
DTSTART:20210825T100000Z
DTEND:20210825T110000Z
DCREATED:20210825T120727Z
UID:Compromisso-6382b71e6b7f409e82c7a04df3eee98f
SEQUENCE:0
LAST-MODIFIED:20210825T120727Z
SUMMARY:Reunião com a Secretaria de Processo Administrativo (SecPad)
DESCRIPTION:Demanda interna
LOCATION:Reitoria
PRIORITY:3
TRANSP:0
END:VEVENT
END:VCALENDAR
