BEGIN:VCALENDAR
PRODID:brasil.gov.agenda
VERSION:1.0
BEGIN:VEVENT
DTSTART:20210825T110000Z
DTEND:20210825T120000Z
DCREATED:20210825T121601Z
UID:Compromisso-b689d62d0eb54d588b0a9804fcd7b508
SEQUENCE:0
LAST-MODIFIED:20210825T121622Z
SUMMARY:Reunião com a Diretoria de Seleção e Desenvolvimento de Pessoas
DESCRIPTION:Remanejamento de servidores entre a PROAD e PROGEP
LOCATION:Reitoria
PRIORITY:3
TRANSP:0
END:VEVENT
END:VCALENDAR
