BEGIN:VCALENDAR
PRODID:brasil.gov.agenda
VERSION:1.0
BEGIN:VEVENT
DTSTART:20210825T080000Z
DTEND:20210825T093000Z
DCREATED:20210825T120540Z
UID:Compromisso-f0e9c5cba8694690a246651e2038f33e
SEQUENCE:0
LAST-MODIFIED:20210825T120540Z
SUMMARY:Despachos Internos
LOCATION:Reitoria
PRIORITY:3
TRANSP:0
END:VEVENT
END:VCALENDAR
