BEGIN:VCALENDAR
PRODID:brasil.gov.agenda
VERSION:1.0
BEGIN:VEVENT
DTSTART:20210823T080000Z
DTEND:20210823T100000Z
DCREATED:20210823T123455Z
UID:Compromisso-b803a7873d39436daeace9016ab550bf
SEQUENCE:0
LAST-MODIFIED:20210823T123455Z
SUMMARY:Despachos Internos
LOCATION:Reitoria
PRIORITY:3
TRANSP:0
END:VEVENT
END:VCALENDAR
