BEGIN:VCALENDAR
PRODID:brasil.gov.agenda
VERSION:1.0
BEGIN:VEVENT
DTSTART:20210820T080000Z
DTEND:20210820T120000Z
DCREATED:20210823T123134Z
UID:Compromisso-5475dc0be8334a57a82232bd628efc9d
SEQUENCE:0
LAST-MODIFIED:20210823T123134Z
SUMMARY:Despachos Internos
LOCATION:Reitoria
PRIORITY:3
TRANSP:0
END:VEVENT
END:VCALENDAR
