BEGIN:VCALENDAR
PRODID:brasil.gov.agenda
VERSION:1.0
BEGIN:VEVENT
DTSTART:20210820T170000Z
DTEND:20210820T180000Z
DCREATED:20210823T123351Z
UID:Compromisso-a0d9a4abc79c45f6b5658c5b7c7a1acd
SEQUENCE:0
LAST-MODIFIED:20210823T123351Z
SUMMARY:Despachos Internos
LOCATION:Reitoria
PRIORITY:3
TRANSP:0
END:VEVENT
END:VCALENDAR
