BEGIN:VCALENDAR
PRODID:brasil.gov.agenda
VERSION:1.0
BEGIN:VEVENT
DTSTART:20210820T143000Z
DTEND:20210820T154000Z
DCREATED:20210823T123149Z
UID:Compromisso-43026df416e54e5dabbb51e05e8d5c0f
SEQUENCE:0
LAST-MODIFIED:20210823T123410Z
SUMMARY:Reunião com Pró-reitoria e Diretoria de Unidade Acadêmica
DESCRIPTION:Reestruturação da TI da UFVJM numa perspectiva multicamp
 i
LOCATION:Compromisso on-line
PRIORITY:3
TRANSP:0
END:VEVENT
END:VCALENDAR
