BEGIN:VCALENDAR
PRODID:brasil.gov.agenda
VERSION:1.0
BEGIN:VEVENT
DTSTART:20210819T000000Z
DTEND:20210819T000000Z
DCREATED:20210819T130444Z
UID:Compromisso-7e3233ed36a5452a972c2e61888cda16
SEQUENCE:0
LAST-MODIFIED:20210819T130444Z
SUMMARY:Retorno de Brasília - DF
LOCATION:Em deslocamento
PRIORITY:3
TRANSP:0
END:VEVENT
END:VCALENDAR
