BEGIN:VCALENDAR
PRODID:brasil.gov.agenda
VERSION:1.0
BEGIN:VEVENT
DTSTART:20210818T171500Z
DTEND:20210818T174000Z
DCREATED:20210818T221452Z
UID:Compromisso-e371fea23a714a1d9e42655de37317a2
SEQUENCE:0
LAST-MODIFIED:20210818T221521Z
SUMMARY:Reunião no Ministério da Educação (MEC)
DESCRIPTION:Solicitação de recurso suplementar para investimento.
LOCATION:Esplanada dos Ministérios/Brasília
PRIORITY:3
TRANSP:0
END:VEVENT
END:VCALENDAR
