BEGIN:VCALENDAR
PRODID:brasil.gov.agenda
VERSION:1.0
BEGIN:VEVENT
DTSTART:20210818T080000Z
DTEND:20210818T100000Z
DCREATED:20210818T113522Z
UID:Compromisso-302047e2cea64438aa92ab39f8a32549
SEQUENCE:0
LAST-MODIFIED:20210818T113522Z
SUMMARY:Reunião com pró-reitorias e diretorias
DESCRIPTION:Distribuição de pessoal
LOCATION:Compromisso on-line
PRIORITY:3
TRANSP:0
END:VEVENT
END:VCALENDAR
