BEGIN:VCALENDAR
PRODID:brasil.gov.agenda
VERSION:1.0
BEGIN:VEVENT
DTSTART:20210817T000000Z
DTEND:20210817T000000Z
DCREATED:20210817T130401Z
UID:Compromisso-539194e0ea8146119ebde236b3754e89
SEQUENCE:0
LAST-MODIFIED:20210817T130423Z
SUMMARY:Viagem a Brasília (DF)
LOCATION:Em deslocamento
PRIORITY:3
TRANSP:0
END:VEVENT
END:VCALENDAR
