BEGIN:VCALENDAR
PRODID:brasil.gov.agenda
VERSION:1.0
BEGIN:VEVENT
DTSTART:20210812T080000Z
DTEND:20210812T100000Z
DCREATED:20210813T132840Z
UID:Compromisso-afc2e2b5cfc345d6850ce500bc454eb7
SEQUENCE:0
LAST-MODIFIED:20210813T132840Z
SUMMARY:Reunião com a Secretaria de Processo Administrativo (SecPad)
DESCRIPTION:Demandas internas
LOCATION:Reitoria
PRIORITY:3
TRANSP:0
END:VEVENT
END:VCALENDAR
