BEGIN:VCALENDAR
PRODID:brasil.gov.agenda
VERSION:1.0
BEGIN:VEVENT
DTSTART:20210812T170000Z
DTEND:20210812T180000Z
DCREATED:20210813T133930Z
UID:Compromisso-f5c897fe49ba49e091ae0a5d64689c90
SEQUENCE:0
LAST-MODIFIED:20210813T133930Z
SUMMARY:Reunião com a Diretoria de Comunicação (DICOM)
DESCRIPTION:Demandas internas
LOCATION:Reitoria
PRIORITY:3
TRANSP:0
END:VEVENT
END:VCALENDAR
