BEGIN:VCALENDAR
PRODID:brasil.gov.agenda
VERSION:1.0
BEGIN:VEVENT
DTSTART:20210812T110000Z
DTEND:20210812T120000Z
DCREATED:20210813T133104Z
UID:Compromisso-2a35de713db94f97be966d69e1f5441d
SEQUENCE:0
LAST-MODIFIED:20210813T133104Z
SUMMARY:Despachos Internos
LOCATION:Reitoria
PRIORITY:3
TRANSP:0
END:VEVENT
END:VCALENDAR
