BEGIN:VCALENDAR
PRODID:brasil.gov.agenda
VERSION:1.0
BEGIN:VEVENT
DTSTART:20210811T140000Z
DTEND:20210811T180000Z
DCREATED:20210811T172408Z
UID:Compromisso-3ed58a02c02a44e9b9cfa3558a980e91
SEQUENCE:0
LAST-MODIFIED:20210811T172408Z
SUMMARY:Despachos Internos
LOCATION:Reitoria
PRIORITY:3
TRANSP:0
END:VEVENT
END:VCALENDAR
