BEGIN:VCALENDAR
PRODID:brasil.gov.agenda
VERSION:1.0
BEGIN:VEVENT
DTSTART:20210810T080000Z
DTEND:20210810T090000Z
DCREATED:20210809T164731Z
UID:Compromisso-34381ca173ce41238d901f7a42a3e947
SEQUENCE:0
LAST-MODIFIED:20210810T141539Z
SUMMARY:Despachos Internos
LOCATION:Reitoria
PRIORITY:3
TRANSP:0
END:VEVENT
END:VCALENDAR
