BEGIN:VCALENDAR
PRODID:brasil.gov.agenda
VERSION:1.0
BEGIN:VEVENT
DTSTART:20210810T140000Z
DTEND:20210810T180000Z
DCREATED:20210810T142017Z
UID:Compromisso-e3f161a2ef9e4e268dd32e75d1bba0a7
SEQUENCE:0
LAST-MODIFIED:20210810T142017Z
SUMMARY:Despachos Internos
LOCATION:Reitoria
PRIORITY:3
TRANSP:0
END:VEVENT
END:VCALENDAR
