BEGIN:VCALENDAR
PRODID:brasil.gov.agenda
VERSION:1.0
BEGIN:VEVENT
DTSTART:20210806T100000Z
DTEND:20210806T110000Z
DCREATED:20210806T112016Z
UID:Compromisso-662e32af47b14ce3a5e6a061fb864fec
SEQUENCE:0
LAST-MODIFIED:20210806T112016Z
SUMMARY:Reunião com a Secretaria de Processo Administrativo (SecPad)
DESCRIPTION:Demanda da secretaria
LOCATION:Reitoria
PRIORITY:3
TRANSP:0
END:VEVENT
END:VCALENDAR
