BEGIN:VCALENDAR
PRODID:brasil.gov.agenda
VERSION:1.0
BEGIN:VEVENT
DTSTART:20210806T080000Z
DTEND:20210806T090000Z
DCREATED:20210806T112128Z
UID:Compromisso-af697db552ed4a6797acf0dd3eea934e
SEQUENCE:0
LAST-MODIFIED:20210806T114045Z
SUMMARY:Reunião com a Pró-Reitoria de Gestão de Pessoas (PROGEP)
DESCRIPTION:Reestruturação administrativa da pró-reitoria
LOCATION:Compromisso on-line
PRIORITY:3
TRANSP:0
END:VEVENT
END:VCALENDAR
