BEGIN:VCALENDAR
PRODID:brasil.gov.agenda
VERSION:1.0
BEGIN:VEVENT
DTSTART:20210804T090000Z
DTEND:20210804T100000Z
DCREATED:20210804T123431Z
UID:Compromisso-9493e58f99f94cd6b3e162071a092924
SEQUENCE:0
LAST-MODIFIED:20210804T123431Z
SUMMARY:Webinário "Entreposto do mel" - Turmalina MG
LOCATION:Compromisso on-line
PRIORITY:3
TRANSP:0
END:VEVENT
END:VCALENDAR
