BEGIN:VCALENDAR
PRODID:brasil.gov.agenda
VERSION:1.0
BEGIN:VEVENT
DTSTART:20210804T110000Z
DTEND:20210804T120000Z
DCREATED:20210804T123616Z
UID:Compromisso-e9ee1e7ebb474670a4530a7cbe0d5693
SEQUENCE:0
LAST-MODIFIED:20210804T123616Z
SUMMARY:Reunião com a Diretoria de Tecnologia da Informação (DTI)
DESCRIPTION:Regimento Interno
LOCATION:Reitoria
PRIORITY:3
TRANSP:0
END:VEVENT
END:VCALENDAR
