BEGIN:VCALENDAR
PRODID:brasil.gov.agenda
VERSION:1.0
BEGIN:VEVENT
DTSTART:20210804T080000Z
DTEND:20210804T090000Z
DCREATED:20210804T123259Z
UID:Compromisso-4f6ca6115e034158b7986d499cc42d8b
SEQUENCE:0
LAST-MODIFIED:20210804T123259Z
SUMMARY:Despachos Internos
LOCATION:Reitoria
PRIORITY:3
TRANSP:0
END:VEVENT
END:VCALENDAR
