BEGIN:VCALENDAR
PRODID:brasil.gov.agenda
VERSION:1.0
BEGIN:VEVENT
DTSTART:20210804T140000Z
DTEND:20210804T180000Z
DCREATED:20210804T123638Z
UID:Compromisso-03a32ff4b3d046dd8c548e77069e2253
SEQUENCE:0
LAST-MODIFIED:20210804T123638Z
SUMMARY:Despachos Internos
LOCATION:Reitoria
PRIORITY:3
TRANSP:0
END:VEVENT
END:VCALENDAR
