BEGIN:VCALENDAR
PRODID:brasil.gov.agenda
VERSION:1.0
BEGIN:VEVENT
DTSTART:20210803T103000Z
DTEND:20210803T113000Z
DCREATED:20210803T132714Z
UID:Compromisso-ac734d71bd05400abe270e65a5b33e65
SEQUENCE:0
LAST-MODIFIED:20210803T132714Z
SUMMARY:Reunião com a Diretoria de Educação Aberta e a Distância (DEAD)
DESCRIPTION:Polo EAD - José Gonçalves de Minas
LOCATION:Compromisso on-line
PRIORITY:3
TRANSP:0
END:VEVENT
END:VCALENDAR
