BEGIN:VCALENDAR
PRODID:brasil.gov.agenda
VERSION:1.0
BEGIN:VEVENT
DTSTART:20210803T080000Z
DTEND:20210803T103000Z
DCREATED:20210803T132754Z
UID:Compromisso-1f741770bca941ffbafbb82af14fa73a
SEQUENCE:0
LAST-MODIFIED:20210803T132754Z
SUMMARY:Despachos Internos
LOCATION:Reitoria
PRIORITY:3
TRANSP:0
END:VEVENT
END:VCALENDAR
