BEGIN:VCALENDAR
PRODID:brasil.gov.agenda
VERSION:1.0
BEGIN:VEVENT
DTSTART:20210727T080000Z
DTEND:20210727T120000Z
DCREATED:20210727T111907Z
UID:Compromisso-92ca7a73366948fcb38f201e1805a5d0
SEQUENCE:0
LAST-MODIFIED:20210727T111907Z
SUMMARY:Despachos Internos
LOCATION:Reitoria
PRIORITY:3
TRANSP:0
END:VEVENT
END:VCALENDAR
