BEGIN:VCALENDAR
PRODID:brasil.gov.agenda
VERSION:1.0
BEGIN:VEVENT
DTSTART:20210723T150000Z
DTEND:20210723T170000Z
DCREATED:20210723T111406Z
UID:Compromisso-b4d6e5a67b8640299d8fee48f95b5e91
SEQUENCE:0
LAST-MODIFIED:20210723T111432Z
SUMMARY:Reunião com Pró-reitores\, Diretores e Presidente da CPBIO
DESCRIPTION:1- Plano de contingência UFVJM enfrentamento da COVID-19 
 - CPBio\n2- Planejamento das práticas dos cursos da saúde e dos dema
 is cursos - encargos docentes\, adequação dos espaços físicos\, ca
 mpanhas educativas\, materiais de consumo dentre outras variáveis\;\n
 3-Previsão do início das aulas práticas presenciais a partir de 18/
 10/2021\;\n4- Decretos Municipais das cidades sede dos campi da UFVJM 
 e as possibilidades de início das práticas presenciais nos respectiv
 os campi.
LOCATION:Compromisso on-line
PRIORITY:3
TRANSP:0
END:VEVENT
END:VCALENDAR
