BEGIN:VCALENDAR
PRODID:brasil.gov.agenda
VERSION:1.0
BEGIN:VEVENT
DTSTART:20210723T073000Z
DTEND:20210723T124500Z
DCREATED:20210723T111800Z
UID:Compromisso-21fc736569ce4991b5064b464ffc42a2
SEQUENCE:0
LAST-MODIFIED:20210723T111800Z
SUMMARY:Participação no evento "Prefeitos em Diamantina"
LOCATION:Escola de Artes e Música Maestro Francisco Nunes
PRIORITY:3
TRANSP:0
END:VEVENT
END:VCALENDAR
