BEGIN:VCALENDAR
PRODID:brasil.gov.agenda
VERSION:1.0
BEGIN:VEVENT
DTSTART:20210721T163000Z
DTEND:20210721T173000Z
DCREATED:20210721T133212Z
UID:Compromisso-a27c37dd9c034a5991de5de106802230
SEQUENCE:0
LAST-MODIFIED:20210721T133413Z
SUMMARY:Reunião com a Procuradoria Educacional e Institucional
DESCRIPTION:Protocolo de compromisso proposto pela SERES/MEC para o re
 conhecimento do curso de Engenharia Agrícola e Ambiental
LOCATION:Compromisso on-line
PRIORITY:3
TRANSP:0
END:VEVENT
END:VCALENDAR
