BEGIN:VCALENDAR
PRODID:brasil.gov.agenda
VERSION:1.0
BEGIN:VEVENT
DTSTART:20210720T170000Z
DTEND:20210720T000000Z
DCREATED:20210720T185849Z
UID:Compromisso-b963c0f9260044bcbb9a64e828c2088d
SEQUENCE:0
LAST-MODIFIED:20210720T185849Z
SUMMARY:Reunião com o reitor
DESCRIPTION:1 - Decreto n° 378\, de 15 de julho de 2021.\n2 - Planeja
 mento do início das atividades práticas.
LOCATION:Compromisso on-line
PRIORITY:3
TRANSP:0
END:VEVENT
END:VCALENDAR
