BEGIN:VCALENDAR
PRODID:brasil.gov.agenda
VERSION:1.0
BEGIN:VEVENT
DTSTART:20210720T080000Z
DTEND:20210720T090000Z
DCREATED:20210720T184843Z
UID:Compromisso-86ce7ba36fd9455c9fe31b0e97ab9e8e
SEQUENCE:0
LAST-MODIFIED:20210720T185029Z
SUMMARY:Reunião com o Instituto de Ciências Agrárias (ICA)
DESCRIPTION:Assuntos relacionados à gestão da Fazenda Experimental S
 anta Paula
LOCATION:Compromisso on-line
PRIORITY:3
TRANSP:0
END:VEVENT
END:VCALENDAR
