BEGIN:VCALENDAR
PRODID:brasil.gov.agenda
VERSION:1.0
BEGIN:VEVENT
DTSTART:20210720T090000Z
DTEND:20210720T093000Z
DCREATED:20210720T185000Z
UID:Compromisso-301da4268886442bb437b086138a70a5
SEQUENCE:0
LAST-MODIFIED:20210720T185046Z
SUMMARY:Reunião com o Instituto de Ciência e Tecnologia (ICT)
DESCRIPTION:Demandas gerais
LOCATION:Reitoria
PRIORITY:3
TRANSP:0
END:VEVENT
END:VCALENDAR
