BEGIN:VCALENDAR
PRODID:brasil.gov.agenda
VERSION:1.0
BEGIN:VEVENT
DTSTART:20210720T150000Z
DTEND:20210720T170000Z
DCREATED:20210720T185231Z
UID:Compromisso-dce7f9a003584a3d92570b1110a6327a
SEQUENCE:0
LAST-MODIFIED:20210720T185304Z
SUMMARY:Reunião com a  Secretaria-Geral do Estado de Minas Gerais
DESCRIPTION:Projetos conjuntos do governo do estado com universidades 
 federais
LOCATION:Compromisso on-line
PRIORITY:3
TRANSP:0
END:VEVENT
END:VCALENDAR
