BEGIN:VCALENDAR
PRODID:brasil.gov.agenda
VERSION:1.0
BEGIN:VEVENT
DTSTART:20210719T140000Z
DTEND:20210719T170000Z
DCREATED:20210719T163936Z
UID:Compromisso-f7928d647a6a4fb4b72fcc083ed95d49
SEQUENCE:0
LAST-MODIFIED:20210719T163957Z
SUMMARY:Participação no Webinário
DESCRIPTION:Orçamento 2021\, apresentação da proposta orçamentári
 a e o plano de execução do orçamento.
LOCATION:On-line
PRIORITY:3
TRANSP:0
END:VEVENT
END:VCALENDAR
