BEGIN:VCALENDAR
PRODID:brasil.gov.agenda
VERSION:1.0
BEGIN:VEVENT
DTSTART:20210716T080000Z
DTEND:20210716T100000Z
DCREATED:20210716T121845Z
UID:Compromisso-f8f974e4cd344151840665ced3a04831
SEQUENCE:0
LAST-MODIFIED:20210716T121845Z
SUMMARY:Visita ao Instituto Nacional de Telecomunicações (INATEL)
LOCATION:Santa Rita do Sapucaí - MG
PRIORITY:3
TRANSP:0
END:VEVENT
END:VCALENDAR
