BEGIN:VCALENDAR
PRODID:brasil.gov.agenda
VERSION:1.0
BEGIN:VEVENT
DTSTART:20210716T110000Z
DTEND:20210716T000000Z
DCREATED:20210716T122000Z
UID:Compromisso-1506408547594100960152ff9328bab5
SEQUENCE:0
LAST-MODIFIED:20210716T122000Z
SUMMARY:Sessão de inauguração de Escola Parque Municipal
LOCATION:Santa Rita do Sapucaí - MG
PRIORITY:3
TRANSP:0
END:VEVENT
END:VCALENDAR
