BEGIN:VCALENDAR
PRODID:brasil.gov.agenda
VERSION:1.0
BEGIN:VEVENT
DTSTART:20210716T130000Z
DTEND:20210716T140000Z
DCREATED:20210716T122043Z
UID:Compromisso-d74dc34d071e4ee89eca33e322fd3d70
SEQUENCE:0
LAST-MODIFIED:20210716T122043Z
SUMMARY:Almoço com autoridades
LOCATION:Santa Rita do Sapucaí - MG
PRIORITY:3
TRANSP:0
END:VEVENT
END:VCALENDAR
