BEGIN:VCALENDAR
PRODID:brasil.gov.agenda
VERSION:1.0
BEGIN:VEVENT
DTSTART:20210714T140000Z
DTEND:20210714T180000Z
DCREATED:20210715T123151Z
UID:Compromisso-7cd8dda5ca61444fb4b6e7912c11df57
SEQUENCE:0
LAST-MODIFIED:20210715T123151Z
SUMMARY:Despachos Internos
LOCATION:Reitoria
PRIORITY:3
TRANSP:0
END:VEVENT
END:VCALENDAR
